BEGIN:VCALENDAR
PRODID: -//CFLIB.ORG//iCalUS()//EN
VERSION:2.0
METHOD:PUBLISH
BEGIN:VTIMEZONE
TZID:America/Chicago
BEGIN:STANDARD
DTSTART:20061101T020000
RRULE:FREQ=YEARLY;INTERVAL=1;BYDAY=1SU;BYMONTH=11
TZOFFSETFROM:-0500
TZOFFSETTO:-0600
TZNAME:CST
END:STANDARD
BEGIN:DAYLIGHT
DTSTART:20060301T020000
RRULE:FREQ=YEARLY;INTERVAL=1;BYDAY=2SU;BYMONTH=3
TZOFFSETFROM:-0600
TZOFFSETTO:-0500
TZNAME:CDT
END:DAYLIGHT
END:VTIMEZONE
BEGIN:VEVENT
UID:567258
DTSTAMP:20260424T224733
DTSTART;TZID=America/Chicago:20260429T121500
DTEND;TZID=America/Chicago:20260429T160000
SUMMARY:2026 UW-Parkside Student Showcase
LOCATION:Student Center Ballroom
DESCRIPTION:Come see a variety of UW-Parkside undergraduate and graduate students 
	from across the campus will present a wide range of scholarly work they 
	have been involved with through student-faculty collaborative 
	independent research\, course-based research projects\, community-based 
	learning (CBL) projects\, internships\, art portfolios\, and 
	more.Faculty/Academic Staff- Please free to encourage students in your 
	courses to attend\, where and when appropriate.  This event includes the 
	WiSys-sponsored Quick Pitch that is embedded within the Student 
	Showcase.Light Beverages &amp\; Refreshments will be included for all. 
PRIORITY:1
TRANSP:OPAQUE
CLASS:PUBLIC
BEGIN:VALARM
TRIGGER:-PT30M
ACTION:DISPLAY
DESCRIPTION:Reminder
END:VALARM
END:VEVENT
END:VCALENDAR