BEGIN:VCALENDAR
PRODID: -//CFLIB.ORG//iCalUS()//EN
VERSION:2.0
METHOD:PUBLISH
BEGIN:VTIMEZONE
TZID:America/Chicago
BEGIN:STANDARD
DTSTART:20061101T020000
RRULE:FREQ=YEARLY;INTERVAL=1;BYDAY=1SU;BYMONTH=11
TZOFFSETFROM:-0500
TZOFFSETTO:-0600
TZNAME:CST
END:STANDARD
BEGIN:DAYLIGHT
DTSTART:20060301T020000
RRULE:FREQ=YEARLY;INTERVAL=1;BYDAY=2SU;BYMONTH=3
TZOFFSETFROM:-0600
TZOFFSETTO:-0500
TZNAME:CDT
END:DAYLIGHT
END:VTIMEZONE
BEGIN:VEVENT
UID:567377
DTSTAMP:20260424T224839
DTSTART;TZID=America/Chicago:20260320T000000
DTEND;TZID=America/Chicago:20260502T000000
SUMMARY:Displaying Curiosity - from Cabinet to Museums
LOCATION:The Library
DESCRIPTION:"Displaying Curiosity--from Cabinets to Museums" is an exhibit created 
	by Dr. GregMayer. in the Art in the Library area.This pop-up show 
	examines the concept of curiosity and curiosities in the historical 
	lightof the man whose collections formed the basis of The British 
	Museum\, The BritishLibrary and the Natural History Museum\, Sir Hans 
	Sloane [1660-1753]. The exhibitdemonstrates how Sloane conceptualized 
	museum organization by implementing thesame system on a variety of 
	curious objects owned by Mayer and other campus citizens.Come for the 
	insight into museum organization or the many interesting and fun 
	objectsof curiosity!Open through May 1\, 2026
PRIORITY:1
TRANSP:OPAQUE
CLASS:PUBLIC
BEGIN:VALARM
TRIGGER:-PT30M
ACTION:DISPLAY
DESCRIPTION:Reminder
END:VALARM
END:VEVENT
END:VCALENDAR