BEGIN:VCALENDAR
PRODID: -//CFLIB.ORG//iCalUS()//EN
VERSION:2.0
METHOD:PUBLISH
BEGIN:VTIMEZONE
TZID:America/Chicago
BEGIN:STANDARD
DTSTART:20061101T020000
RRULE:FREQ=YEARLY;INTERVAL=1;BYDAY=1SU;BYMONTH=11
TZOFFSETFROM:-0500
TZOFFSETTO:-0600
TZNAME:CST
END:STANDARD
BEGIN:DAYLIGHT
DTSTART:20060301T020000
RRULE:FREQ=YEARLY;INTERVAL=1;BYDAY=2SU;BYMONTH=3
TZOFFSETFROM:-0600
TZOFFSETTO:-0500
TZNAME:CDT
END:DAYLIGHT
END:VTIMEZONE
BEGIN:VEVENT
UID:567594
DTSTAMP:20260424T224906
DTSTART;TZID=America/Chicago:20260427T120000
DTEND;TZID=America/Chicago:20260427T130000
SUMMARY:Ranger RecFest
LOCATION:UW-Parkside Quad
DESCRIPTION:Have fun at Ranger  RecFest hosted by the Exercise Leadership and 
	Management students!Engage in fun and interactive events 
	including:Spikeball Pickleball4V4 Dodgeball tournamentCornholeBesides 
	games\, visit our informational tables and learn about:Stress 
	ManagementFinancial WellnessHealthy Daily HabitsThe Impact of Physical 
	Activity on Mental Wellness Don’t miss this opportunity to have fun\, 
	stay active\, and learn something new! Bring your friends!
PRIORITY:1
TRANSP:OPAQUE
CLASS:PUBLIC
BEGIN:VALARM
TRIGGER:-PT30M
ACTION:DISPLAY
DESCRIPTION:Reminder
END:VALARM
END:VEVENT
END:VCALENDAR